BEGIN:VCALENDAR
VERSION:2.0
PRODID:-//ProRank Business Solutions LLC - ECPv6.15.20//NONSGML v1.0//EN
CALSCALE:GREGORIAN
METHOD:PUBLISH
X-WR-CALNAME:ProRank Business Solutions LLC
X-ORIGINAL-URL:https://prorankllc.com
X-WR-CALDESC:Events for ProRank Business Solutions LLC
REFRESH-INTERVAL;VALUE=DURATION:PT1H
X-Robots-Tag:noindex
X-PUBLISHED-TTL:PT1H
BEGIN:VTIMEZONE
TZID:America/New_York
BEGIN:DAYLIGHT
TZOFFSETFROM:-0500
TZOFFSETTO:-0400
TZNAME:EDT
DTSTART:20300310T070000
END:DAYLIGHT
BEGIN:STANDARD
TZOFFSETFROM:-0400
TZOFFSETTO:-0500
TZNAME:EST
DTSTART:20301103T060000
END:STANDARD
BEGIN:DAYLIGHT
TZOFFSETFROM:-0500
TZOFFSETTO:-0400
TZNAME:EDT
DTSTART:20310309T070000
END:DAYLIGHT
BEGIN:STANDARD
TZOFFSETFROM:-0400
TZOFFSETTO:-0500
TZNAME:EST
DTSTART:20311102T060000
END:STANDARD
BEGIN:DAYLIGHT
TZOFFSETFROM:-0500
TZOFFSETTO:-0400
TZNAME:EDT
DTSTART:20320314T070000
END:DAYLIGHT
BEGIN:STANDARD
TZOFFSETFROM:-0400
TZOFFSETTO:-0500
TZNAME:EST
DTSTART:20321107T060000
END:STANDARD
END:VTIMEZONE
BEGIN:VEVENT
DTSTART;TZID=America/New_York:20310225T110000
DTEND;TZID=America/New_York:20310225T120000
DTSTAMP:20260421T130807
CREATED:20251201T155633Z
LAST-MODIFIED:20260107T182500Z
UID:10003586-1929783600-1929787200@prorankllc.com
SUMMARY:ECMS Navigation Series
DESCRIPTION:If you are a consultant or contractor in the heavy highway industry and want to do business with PennDOT\, then the 8 part ECMS Navigation Series is the course for you. The list of topics covered include: \nWeekly ECMS Call Topics: \n1. Business Partner Registration – for Contractors and Consultants\n2. Consultant Qualification – for Consultants\n3. Contractor Pre Qualification – for Contractors\n4. ECMS Navigation For Consultants\n5. ECMS Navigation For Contractors\n6. Consultant Qualification Package Renewal – for Consultants\n7. ECMS Subcontractor New E- Pre-qualification Application Submission – for Contractors\n8. How to Develop Your Indirect Cost Rate (a.k.a: Your Overhead Rate) – for Consultants \nRegister
URL:https://prorankllc.com/events/ecms-navigation-5-2-2-2-42-7-2/2031-02-25/
CATEGORIES:ECMS Navigation
ATTACH;FMTTYPE=image/webp:https://prorankllc.com/wp-content/uploads/2024/08/ecms-thumb.webp
ORGANIZER;CN="PA DBE Supportive Services Center":MAILTO:penndbe@prorankllc.com
LOCATION:https://prorankllc.com/events/ecms-navigation-5-2-2-2-42-7-2/2031-02-25/
END:VEVENT
BEGIN:VEVENT
DTSTART;TZID=America/New_York:20310304T110000
DTEND;TZID=America/New_York:20310304T120000
DTSTAMP:20260421T130807
CREATED:20251201T155633Z
LAST-MODIFIED:20260107T182500Z
UID:10003587-1930388400-1930392000@prorankllc.com
SUMMARY:ECMS Navigation Series
DESCRIPTION:If you are a consultant or contractor in the heavy highway industry and want to do business with PennDOT\, then the 8 part ECMS Navigation Series is the course for you. The list of topics covered include: \nWeekly ECMS Call Topics: \n1. Business Partner Registration – for Contractors and Consultants\n2. Consultant Qualification – for Consultants\n3. Contractor Pre Qualification – for Contractors\n4. ECMS Navigation For Consultants\n5. ECMS Navigation For Contractors\n6. Consultant Qualification Package Renewal – for Consultants\n7. ECMS Subcontractor New E- Pre-qualification Application Submission – for Contractors\n8. How to Develop Your Indirect Cost Rate (a.k.a: Your Overhead Rate) – for Consultants \nRegister
URL:https://prorankllc.com/events/ecms-navigation-5-2-2-2-42-7-2/2031-03-04/
CATEGORIES:ECMS Navigation
ATTACH;FMTTYPE=image/webp:https://prorankllc.com/wp-content/uploads/2024/08/ecms-thumb.webp
ORGANIZER;CN="PA DBE Supportive Services Center":MAILTO:penndbe@prorankllc.com
LOCATION:https://prorankllc.com/events/ecms-navigation-5-2-2-2-42-7-2/2031-03-04/
END:VEVENT
BEGIN:VEVENT
DTSTART;TZID=America/New_York:20310311T110000
DTEND;TZID=America/New_York:20310311T120000
DTSTAMP:20260421T130807
CREATED:20251201T155633Z
LAST-MODIFIED:20260107T182500Z
UID:10003588-1930993200-1930996800@prorankllc.com
SUMMARY:ECMS Navigation Series
DESCRIPTION:If you are a consultant or contractor in the heavy highway industry and want to do business with PennDOT\, then the 8 part ECMS Navigation Series is the course for you. The list of topics covered include: \nWeekly ECMS Call Topics: \n1. Business Partner Registration – for Contractors and Consultants\n2. Consultant Qualification – for Consultants\n3. Contractor Pre Qualification – for Contractors\n4. ECMS Navigation For Consultants\n5. ECMS Navigation For Contractors\n6. Consultant Qualification Package Renewal – for Consultants\n7. ECMS Subcontractor New E- Pre-qualification Application Submission – for Contractors\n8. How to Develop Your Indirect Cost Rate (a.k.a: Your Overhead Rate) – for Consultants \nRegister
URL:https://prorankllc.com/events/ecms-navigation-5-2-2-2-42-7-2/2031-03-11/
CATEGORIES:ECMS Navigation
ATTACH;FMTTYPE=image/webp:https://prorankllc.com/wp-content/uploads/2024/08/ecms-thumb.webp
ORGANIZER;CN="PA DBE Supportive Services Center":MAILTO:penndbe@prorankllc.com
LOCATION:https://prorankllc.com/events/ecms-navigation-5-2-2-2-42-7-2/2031-03-11/
END:VEVENT
END:VCALENDAR