BEGIN:VCALENDAR
VERSION:2.0
PRODID:-//ProRank Business Solutions LLC - ECPv6.15.20//NONSGML v1.0//EN
CALSCALE:GREGORIAN
METHOD:PUBLISH
X-ORIGINAL-URL:https://prorankllc.com
X-WR-CALDESC:Events for ProRank Business Solutions LLC
REFRESH-INTERVAL;VALUE=DURATION:PT1H
X-Robots-Tag:noindex
X-PUBLISHED-TTL:PT1H
BEGIN:VTIMEZONE
TZID:America/New_York
BEGIN:DAYLIGHT
TZOFFSETFROM:-0500
TZOFFSETTO:-0400
TZNAME:EDT
DTSTART:20230312T070000
END:DAYLIGHT
BEGIN:STANDARD
TZOFFSETFROM:-0400
TZOFFSETTO:-0500
TZNAME:EST
DTSTART:20231105T060000
END:STANDARD
BEGIN:DAYLIGHT
TZOFFSETFROM:-0500
TZOFFSETTO:-0400
TZNAME:EDT
DTSTART:20240310T070000
END:DAYLIGHT
BEGIN:STANDARD
TZOFFSETFROM:-0400
TZOFFSETTO:-0500
TZNAME:EST
DTSTART:20241103T060000
END:STANDARD
BEGIN:DAYLIGHT
TZOFFSETFROM:-0500
TZOFFSETTO:-0400
TZNAME:EDT
DTSTART:20250309T070000
END:DAYLIGHT
BEGIN:STANDARD
TZOFFSETFROM:-0400
TZOFFSETTO:-0500
TZNAME:EST
DTSTART:20251102T060000
END:STANDARD
END:VTIMEZONE
BEGIN:VEVENT
DTSTART;TZID=America/New_York:20240910T110000
DTEND;TZID=America/New_York:20240910T120000
DTSTAMP:20260420T214052
CREATED:20240822T183359Z
LAST-MODIFIED:20241223T162709Z
UID:10000919-1725966000-1725969600@prorankllc.com
SUMMARY:ECMS Navigation Series
DESCRIPTION:Register
URL:https://prorankllc.com/events/ecms-navigation-5/2024-09-10/
CATEGORIES:ECMS Navigation
ATTACH;FMTTYPE=image/webp:https://prorankllc.com/wp-content/uploads/2024/08/ecms-thumb.webp
ORGANIZER;CN="PA DBE Supportive Services Center":MAILTO:penndbe@prorankllc.com
LOCATION:https://prorankllc.com/events/ecms-navigation-5/2024-09-10/
END:VEVENT
BEGIN:VEVENT
DTSTART;TZID=America/New_York:20240903T110000
DTEND;TZID=America/New_York:20240903T120000
DTSTAMP:20260420T214052
CREATED:20240822T183359Z
LAST-MODIFIED:20241223T162709Z
UID:10000030-1725361200-1725364800@prorankllc.com
SUMMARY:ECMS Navigation Series
DESCRIPTION:Register
URL:https://prorankllc.com/events/ecms-navigation-5/2024-09-03/
CATEGORIES:ECMS Navigation
ATTACH;FMTTYPE=image/webp:https://prorankllc.com/wp-content/uploads/2024/08/ecms-thumb.webp
ORGANIZER;CN="PA DBE Supportive Services Center":MAILTO:penndbe@prorankllc.com
LOCATION:https://prorankllc.com/events/ecms-navigation-5/2024-09-03/
END:VEVENT
BEGIN:VEVENT
DTSTART;TZID=America/New_York:20240827T110000
DTEND;TZID=America/New_York:20240827T120000
DTSTAMP:20260420T214052
CREATED:20240822T183359Z
LAST-MODIFIED:20241223T162709Z
UID:10000064-1724756400-1724760000@prorankllc.com
SUMMARY:ECMS Navigation Series
DESCRIPTION:Register
URL:https://prorankllc.com/events/ecms-navigation-5/2024-08-27/
CATEGORIES:ECMS Navigation
ATTACH;FMTTYPE=image/webp:https://prorankllc.com/wp-content/uploads/2024/08/ecms-thumb.webp
ORGANIZER;CN="PA DBE Supportive Services Center":MAILTO:penndbe@prorankllc.com
LOCATION:https://prorankllc.com/events/ecms-navigation-5/2024-08-27/
END:VEVENT
END:VCALENDAR