BEGIN:VCALENDAR
VERSION:2.0
PRODID:-//ProRank Business Solutions LLC - ECPv6.15.20//NONSGML v1.0//EN
CALSCALE:GREGORIAN
METHOD:PUBLISH
X-WR-CALNAME:ProRank Business Solutions LLC
X-ORIGINAL-URL:https://prorankllc.com
X-WR-CALDESC:Events for ProRank Business Solutions LLC
REFRESH-INTERVAL;VALUE=DURATION:PT1H
X-Robots-Tag:noindex
X-PUBLISHED-TTL:PT1H
BEGIN:VTIMEZONE
TZID:America/New_York
BEGIN:DAYLIGHT
TZOFFSETFROM:-0500
TZOFFSETTO:-0400
TZNAME:EDT
DTSTART:20290311T070000
END:DAYLIGHT
BEGIN:STANDARD
TZOFFSETFROM:-0400
TZOFFSETTO:-0500
TZNAME:EST
DTSTART:20291104T060000
END:STANDARD
BEGIN:DAYLIGHT
TZOFFSETFROM:-0500
TZOFFSETTO:-0400
TZNAME:EDT
DTSTART:20300310T070000
END:DAYLIGHT
BEGIN:STANDARD
TZOFFSETFROM:-0400
TZOFFSETTO:-0500
TZNAME:EST
DTSTART:20301103T060000
END:STANDARD
BEGIN:DAYLIGHT
TZOFFSETFROM:-0500
TZOFFSETTO:-0400
TZNAME:EDT
DTSTART:20310309T070000
END:DAYLIGHT
BEGIN:STANDARD
TZOFFSETFROM:-0400
TZOFFSETTO:-0500
TZNAME:EST
DTSTART:20311102T060000
END:STANDARD
BEGIN:DAYLIGHT
TZOFFSETFROM:-0500
TZOFFSETTO:-0400
TZNAME:EDT
DTSTART:20320314T070000
END:DAYLIGHT
BEGIN:STANDARD
TZOFFSETFROM:-0400
TZOFFSETTO:-0500
TZNAME:EST
DTSTART:20321107T060000
END:STANDARD
END:VTIMEZONE
BEGIN:VEVENT
DTSTART;TZID=America/New_York:20301128T110000
DTEND;TZID=America/New_York:20301128T120000
DTSTAMP:20260422T190436
CREATED:20260107T180657Z
LAST-MODIFIED:20260107T180904Z
UID:10002988-1922094000-1922097600@prorankllc.com
SUMMARY:PENNDOT Mentor Protégé Live Q & A Navigational Call
DESCRIPTION:PENNDOT Mentor Protégé Live Q & A Navigational Call was created to increase diversity and participation in the Disadvantaged Business Enterprise (DBE) Program for contractors and consultants\, with a focus on drawing in underserved and underrepresented companies. We provide a seamless process to assist mentor and protégé in navigating contracting opportunities with PennDOT. The MPP call is every Thursday from 11:00 am – 12:00 pm EDT. \nRegister
URL:https://prorankllc.com/events/penndot-mentor-protege-live-q-a-navigational-call-3-5-4/2030-11-28/
ATTACH;FMTTYPE=image/webp:https://prorankllc.com/wp-content/uploads/2024/08/mpp-nav-call-thumb.webp
ORGANIZER;CN="PennDOT MPP Supportive Services Center":MAILTO:pennmpp@prorankllc.com
END:VEVENT
BEGIN:VEVENT
DTSTART;TZID=America/New_York:20301205T110000
DTEND;TZID=America/New_York:20301205T120000
DTSTAMP:20260422T190436
CREATED:20260107T180657Z
LAST-MODIFIED:20260107T180904Z
UID:10002990-1922698800-1922702400@prorankllc.com
SUMMARY:PENNDOT Mentor Protégé Live Q & A Navigational Call
DESCRIPTION:PENNDOT Mentor Protégé Live Q & A Navigational Call was created to increase diversity and participation in the Disadvantaged Business Enterprise (DBE) Program for contractors and consultants\, with a focus on drawing in underserved and underrepresented companies. We provide a seamless process to assist mentor and protégé in navigating contracting opportunities with PennDOT. The MPP call is every Thursday from 11:00 am – 12:00 pm EDT. \nRegister
URL:https://prorankllc.com/events/penndot-mentor-protege-live-q-a-navigational-call-3-5-4/2030-12-05/
ATTACH;FMTTYPE=image/webp:https://prorankllc.com/wp-content/uploads/2024/08/mpp-nav-call-thumb.webp
ORGANIZER;CN="PennDOT MPP Supportive Services Center":MAILTO:pennmpp@prorankllc.com
END:VEVENT
BEGIN:VEVENT
DTSTART;TZID=America/New_York:20301212T110000
DTEND;TZID=America/New_York:20301212T120000
DTSTAMP:20260422T190436
CREATED:20260107T180657Z
LAST-MODIFIED:20260107T180904Z
UID:10002991-1923303600-1923307200@prorankllc.com
SUMMARY:PENNDOT Mentor Protégé Live Q & A Navigational Call
DESCRIPTION:PENNDOT Mentor Protégé Live Q & A Navigational Call was created to increase diversity and participation in the Disadvantaged Business Enterprise (DBE) Program for contractors and consultants\, with a focus on drawing in underserved and underrepresented companies. We provide a seamless process to assist mentor and protégé in navigating contracting opportunities with PennDOT. The MPP call is every Thursday from 11:00 am – 12:00 pm EDT. \nRegister
URL:https://prorankllc.com/events/penndot-mentor-protege-live-q-a-navigational-call-3-5-4/2030-12-12/
ATTACH;FMTTYPE=image/webp:https://prorankllc.com/wp-content/uploads/2024/08/mpp-nav-call-thumb.webp
ORGANIZER;CN="PennDOT MPP Supportive Services Center":MAILTO:pennmpp@prorankllc.com
END:VEVENT
BEGIN:VEVENT
DTSTART;TZID=America/New_York:20301219T110000
DTEND;TZID=America/New_York:20301219T120000
DTSTAMP:20260422T190436
CREATED:20260107T180657Z
LAST-MODIFIED:20260107T180904Z
UID:10002992-1923908400-1923912000@prorankllc.com
SUMMARY:PENNDOT Mentor Protégé Live Q & A Navigational Call
DESCRIPTION:PENNDOT Mentor Protégé Live Q & A Navigational Call was created to increase diversity and participation in the Disadvantaged Business Enterprise (DBE) Program for contractors and consultants\, with a focus on drawing in underserved and underrepresented companies. We provide a seamless process to assist mentor and protégé in navigating contracting opportunities with PennDOT. The MPP call is every Thursday from 11:00 am – 12:00 pm EDT. \nRegister
URL:https://prorankllc.com/events/penndot-mentor-protege-live-q-a-navigational-call-3-5-4/2030-12-19/
ATTACH;FMTTYPE=image/webp:https://prorankllc.com/wp-content/uploads/2024/08/mpp-nav-call-thumb.webp
ORGANIZER;CN="PennDOT MPP Supportive Services Center":MAILTO:pennmpp@prorankllc.com
END:VEVENT
BEGIN:VEVENT
DTSTART;TZID=America/New_York:20301226T110000
DTEND;TZID=America/New_York:20301226T120000
DTSTAMP:20260422T190436
CREATED:20260107T180657Z
LAST-MODIFIED:20260107T180904Z
UID:10002993-1924513200-1924516800@prorankllc.com
SUMMARY:PENNDOT Mentor Protégé Live Q & A Navigational Call
DESCRIPTION:PENNDOT Mentor Protégé Live Q & A Navigational Call was created to increase diversity and participation in the Disadvantaged Business Enterprise (DBE) Program for contractors and consultants\, with a focus on drawing in underserved and underrepresented companies. We provide a seamless process to assist mentor and protégé in navigating contracting opportunities with PennDOT. The MPP call is every Thursday from 11:00 am – 12:00 pm EDT. \nRegister
URL:https://prorankllc.com/events/penndot-mentor-protege-live-q-a-navigational-call-3-5-4/2030-12-26/
ATTACH;FMTTYPE=image/webp:https://prorankllc.com/wp-content/uploads/2024/08/mpp-nav-call-thumb.webp
ORGANIZER;CN="PennDOT MPP Supportive Services Center":MAILTO:pennmpp@prorankllc.com
END:VEVENT
BEGIN:VEVENT
DTSTART;TZID=America/New_York:20310102T110000
DTEND;TZID=America/New_York:20310102T120000
DTSTAMP:20260422T190436
CREATED:20260107T180657Z
LAST-MODIFIED:20260107T180904Z
UID:10002994-1925118000-1925121600@prorankllc.com
SUMMARY:PENNDOT Mentor Protégé Live Q & A Navigational Call
DESCRIPTION:PENNDOT Mentor Protégé Live Q & A Navigational Call was created to increase diversity and participation in the Disadvantaged Business Enterprise (DBE) Program for contractors and consultants\, with a focus on drawing in underserved and underrepresented companies. We provide a seamless process to assist mentor and protégé in navigating contracting opportunities with PennDOT. The MPP call is every Thursday from 11:00 am – 12:00 pm EDT. \nRegister
URL:https://prorankllc.com/events/penndot-mentor-protege-live-q-a-navigational-call-3-5-4/2031-01-02/
ATTACH;FMTTYPE=image/webp:https://prorankllc.com/wp-content/uploads/2024/08/mpp-nav-call-thumb.webp
ORGANIZER;CN="PennDOT MPP Supportive Services Center":MAILTO:pennmpp@prorankllc.com
END:VEVENT
END:VCALENDAR